BEGIN:VCALENDAR
VERSION:2.0
PRODID:-//True North 400 - ECPv6.15.20//NONSGML v1.0//EN
CALSCALE:GREGORIAN
METHOD:PUBLISH
X-WR-CALNAME:True North 400
X-ORIGINAL-URL:https://truenorth400.com
X-WR-CALDESC:Events for True North 400
REFRESH-INTERVAL;VALUE=DURATION:PT1H
X-Robots-Tag:noindex
X-PUBLISHED-TTL:PT1H
BEGIN:VTIMEZONE
TZID:America/New_York
BEGIN:DAYLIGHT
TZOFFSETFROM:-0500
TZOFFSETTO:-0400
TZNAME:EDT
DTSTART:20250309T070000
END:DAYLIGHT
BEGIN:STANDARD
TZOFFSETFROM:-0400
TZOFFSETTO:-0500
TZNAME:EST
DTSTART:20251102T060000
END:STANDARD
BEGIN:DAYLIGHT
TZOFFSETFROM:-0500
TZOFFSETTO:-0400
TZNAME:EDT
DTSTART:20260308T070000
END:DAYLIGHT
BEGIN:STANDARD
TZOFFSETFROM:-0400
TZOFFSETTO:-0500
TZNAME:EST
DTSTART:20261101T060000
END:STANDARD
BEGIN:DAYLIGHT
TZOFFSETFROM:-0500
TZOFFSETTO:-0400
TZNAME:EDT
DTSTART:20270314T070000
END:DAYLIGHT
BEGIN:STANDARD
TZOFFSETFROM:-0400
TZOFFSETTO:-0500
TZNAME:EST
DTSTART:20271107T060000
END:STANDARD
END:VTIMEZONE
BEGIN:VEVENT
DTSTART;TZID=America/New_York:20260220T100000
DTEND;TZID=America/New_York:20260220T110000
DTSTAMP:20260420T033636
CREATED:20260217T153747Z
LAST-MODIFIED:20260217T153747Z
UID:1436-1771581600-1771585200@truenorth400.com
SUMMARY:Arbor Day Celebration
DESCRIPTION:Date: 2/20/2026 10:00 AM – 11:00 AM\nLocation: Bell Memorial Park\n15245 Bell Park Drive\nMilton\, Georgia 30004\n\n\n\nAll are welcome to join fellow tree-lovers the morning of February 20 at the City’s annual Arbor Day Celebration. \nThe festivities will begin at 10 a.m. that Friday in Bell Memorial Park\, specifically in the Mark Law Arboretum section. Those entering the park from Bell Park Drive will go by the Arboretum entrance/sign\, which is just past a baseball field. \nIn Georgia\, Arbor Day takes place in late February because that’s during (albeit near the end of) prime tree-planting season in this part of the country. The annual highlight of Milton’s Arbor Day event is planting trees on City facilities\, and the 2026 edition is no exception. In fact\, three types of trees — a Sweetbay Magnolia\, Smoketree\, and Witchhazel tree — will be planted\, bringing new life around where now-deceased trees once stood. Citizens can join City officials in finishing off these plantings. \nThe February 20 event also will feature complimentary morning snacks and warm coffee. And\, once again\, tree seedlings will be distributed free-of-charge to citizens will supplies last. This year\, those will be Persimmons — a tree native to the Southeast that produces edible fruit and is green in the spring and summer before turning yellow in the fall. \nNo RSVPs are necessary. Just come to Bell Memorial Park on February 20 if you can!
URL:https://truenorth400.com/event/arbor-day-celebration-milton-feb-20-2026/
LOCATION:Bell Memorial Park\, 15245 Bell Park Drive\, Milton\, GA\, 30004\, United States
CATEGORIES:City of Milton
END:VEVENT
END:VCALENDAR