BEGIN:VCALENDAR
VERSION:2.0
PRODID:-//True North 400 - ECPv6.15.20//NONSGML v1.0//EN
CALSCALE:GREGORIAN
METHOD:PUBLISH
X-ORIGINAL-URL:https://truenorth400.com
X-WR-CALDESC:Events for True North 400
REFRESH-INTERVAL;VALUE=DURATION:PT1H
X-Robots-Tag:noindex
X-PUBLISHED-TTL:PT1H
BEGIN:VTIMEZONE
TZID:America/New_York
BEGIN:DAYLIGHT
TZOFFSETFROM:-0500
TZOFFSETTO:-0400
TZNAME:EDT
DTSTART:20250309T070000
END:DAYLIGHT
BEGIN:STANDARD
TZOFFSETFROM:-0400
TZOFFSETTO:-0500
TZNAME:EST
DTSTART:20251102T060000
END:STANDARD
BEGIN:DAYLIGHT
TZOFFSETFROM:-0500
TZOFFSETTO:-0400
TZNAME:EDT
DTSTART:20260308T070000
END:DAYLIGHT
BEGIN:STANDARD
TZOFFSETFROM:-0400
TZOFFSETTO:-0500
TZNAME:EST
DTSTART:20261101T060000
END:STANDARD
BEGIN:DAYLIGHT
TZOFFSETFROM:-0500
TZOFFSETTO:-0400
TZNAME:EDT
DTSTART:20270314T070000
END:DAYLIGHT
BEGIN:STANDARD
TZOFFSETFROM:-0400
TZOFFSETTO:-0500
TZNAME:EST
DTSTART:20271107T060000
END:STANDARD
END:VTIMEZONE
BEGIN:VEVENT
DTSTART;TZID=America/New_York:20260407T173000
DTEND;TZID=America/New_York:20260407T190000
DTSTAMP:20260420T051858
CREATED:20260216T190853Z
LAST-MODIFIED:20260305T205814Z
UID:1322-1775583000-1775588400@truenorth400.com
SUMMARY:Next Gen Connects
DESCRIPTION:Next Gen Connects – A Greater North Fulton Chamber Program powered by Morgan Stanley \nCelebrate National Beer Day and connect with other North Fulton young professionals at Voodoo Brewing Company in Roswell. \nFriday\, April 7\, 2026\, 5:30 – 7 p.m.
URL:https://truenorth400.com/event/next-gen-connects-apr-7-2026/
LOCATION:Voodoo Brewing\, 1010 Mansell Rd\, Suite 180\, Roswell\, GA\, 30076\, United States
CATEGORIES:Greater North Fulton Chamber
END:VEVENT
END:VCALENDAR