BEGIN:VCALENDAR
VERSION:2.0
PRODID:-//True North 400 - ECPv6.15.20//NONSGML v1.0//EN
CALSCALE:GREGORIAN
METHOD:PUBLISH
X-ORIGINAL-URL:https://truenorth400.com
X-WR-CALDESC:Events for True North 400
REFRESH-INTERVAL;VALUE=DURATION:PT1H
X-Robots-Tag:noindex
X-PUBLISHED-TTL:PT1H
BEGIN:VTIMEZONE
TZID:America/New_York
BEGIN:DAYLIGHT
TZOFFSETFROM:-0500
TZOFFSETTO:-0400
TZNAME:EDT
DTSTART:20250309T070000
END:DAYLIGHT
BEGIN:STANDARD
TZOFFSETFROM:-0400
TZOFFSETTO:-0500
TZNAME:EST
DTSTART:20251102T060000
END:STANDARD
BEGIN:DAYLIGHT
TZOFFSETFROM:-0500
TZOFFSETTO:-0400
TZNAME:EDT
DTSTART:20260308T070000
END:DAYLIGHT
BEGIN:STANDARD
TZOFFSETFROM:-0400
TZOFFSETTO:-0500
TZNAME:EST
DTSTART:20261101T060000
END:STANDARD
BEGIN:DAYLIGHT
TZOFFSETFROM:-0500
TZOFFSETTO:-0400
TZNAME:EDT
DTSTART:20270314T070000
END:DAYLIGHT
BEGIN:STANDARD
TZOFFSETFROM:-0400
TZOFFSETTO:-0500
TZNAME:EST
DTSTART:20271107T060000
END:STANDARD
END:VTIMEZONE
BEGIN:VEVENT
DTSTART;TZID=America/New_York:20260411T090000
DTEND;TZID=America/New_York:20260411T160000
DTSTAMP:20260420T033049
CREATED:20260216T212642Z
LAST-MODIFIED:20260216T212642Z
UID:1397-1775898000-1775923200@truenorth400.com
SUMMARY:25th Annual Garden Faire 2026
DESCRIPTION:Garden Faire is the North Fulton Master Gardeners’ primary nonprofit fundraising event. It is a plant sale where approximately 3\,000 plants will be sold\, and partners\, Georgia Native Plants Society and Alpharetta Community Agriculture Program will also sell approximately 5-6\,000 plants in total. NFMG also holds a garden ware gently used second-hand shop. We will host garden centric vendors giving them an opportunity to support the North Fulton community residents through a central venue. We will provide music and light food options to add to the festivities. \n\n\n\nFree Admission\n\nNorth Fulton Master Gardeners’ Event Page
URL:https://truenorth400.com/event/25th-annual-garden-faire-2026/
LOCATION:Alpharetta Community Center\, 175 Roswell St\, Alpharetta\, GA\, 30009\, United States
CATEGORIES:City of Alpharetta
END:VEVENT
END:VCALENDAR