BEGIN:VCALENDAR
VERSION:2.0
PRODID:-//True North 400 - ECPv6.15.20//NONSGML v1.0//EN
CALSCALE:GREGORIAN
METHOD:PUBLISH
X-ORIGINAL-URL:https://truenorth400.com
X-WR-CALDESC:Events for True North 400
REFRESH-INTERVAL;VALUE=DURATION:PT1H
X-Robots-Tag:noindex
X-PUBLISHED-TTL:PT1H
BEGIN:VTIMEZONE
TZID:America/New_York
BEGIN:DAYLIGHT
TZOFFSETFROM:-0500
TZOFFSETTO:-0400
TZNAME:EDT
DTSTART:20250309T070000
END:DAYLIGHT
BEGIN:STANDARD
TZOFFSETFROM:-0400
TZOFFSETTO:-0500
TZNAME:EST
DTSTART:20251102T060000
END:STANDARD
BEGIN:DAYLIGHT
TZOFFSETFROM:-0500
TZOFFSETTO:-0400
TZNAME:EDT
DTSTART:20260308T070000
END:DAYLIGHT
BEGIN:STANDARD
TZOFFSETFROM:-0400
TZOFFSETTO:-0500
TZNAME:EST
DTSTART:20261101T060000
END:STANDARD
BEGIN:DAYLIGHT
TZOFFSETFROM:-0500
TZOFFSETTO:-0400
TZNAME:EDT
DTSTART:20270314T070000
END:DAYLIGHT
BEGIN:STANDARD
TZOFFSETFROM:-0400
TZOFFSETTO:-0500
TZNAME:EST
DTSTART:20271107T060000
END:STANDARD
END:VTIMEZONE
BEGIN:VEVENT
DTSTART;TZID=America/New_York:20260416T080000
DTEND;TZID=America/New_York:20260416T103000
DTSTAMP:20260420T020221
CREATED:20260216T191447Z
LAST-MODIFIED:20260216T191447Z
UID:1327-1776326400-1776335400@truenorth400.com
SUMMARY:North Fulton Futures Summit
DESCRIPTION:The North Fulton Focus Series is a special breakfast event spotlighting the powerful collaboration among North Fulton’s six distinct cities\, working together to shape one outstanding region. This annual Economic Development Summit features: \n\nDynamic panels on trending economic development topics\nInsightful discussions on regional growth and innovation\nNetworking with key stakeholders driving North Fulton’s future\n\nDiscover how unity across municipalities fuels strategic progress—and enjoy a morning of meaningful connections and actionable insights.
URL:https://truenorth400.com/event/north-fulton-futures-summit-apr-16-2026/
LOCATION:Sandy Springs Performing Arts Center\, 1 Galambos Way\, Sandy Springs\, GA\, 30328\, United States
CATEGORIES:Greater North Fulton Chamber
END:VEVENT
END:VCALENDAR