BEGIN:VCALENDAR
VERSION:2.0
PRODID:-//True North 400 - ECPv6.15.20//NONSGML v1.0//EN
CALSCALE:GREGORIAN
METHOD:PUBLISH
X-ORIGINAL-URL:https://truenorth400.com
X-WR-CALDESC:Events for True North 400
REFRESH-INTERVAL;VALUE=DURATION:PT1H
X-Robots-Tag:noindex
X-PUBLISHED-TTL:PT1H
BEGIN:VTIMEZONE
TZID:America/New_York
BEGIN:DAYLIGHT
TZOFFSETFROM:-0500
TZOFFSETTO:-0400
TZNAME:EDT
DTSTART:20250309T070000
END:DAYLIGHT
BEGIN:STANDARD
TZOFFSETFROM:-0400
TZOFFSETTO:-0500
TZNAME:EST
DTSTART:20251102T060000
END:STANDARD
BEGIN:DAYLIGHT
TZOFFSETFROM:-0500
TZOFFSETTO:-0400
TZNAME:EDT
DTSTART:20260308T070000
END:DAYLIGHT
BEGIN:STANDARD
TZOFFSETFROM:-0400
TZOFFSETTO:-0500
TZNAME:EST
DTSTART:20261101T060000
END:STANDARD
BEGIN:DAYLIGHT
TZOFFSETFROM:-0500
TZOFFSETTO:-0400
TZNAME:EDT
DTSTART:20270314T070000
END:DAYLIGHT
BEGIN:STANDARD
TZOFFSETFROM:-0400
TZOFFSETTO:-0500
TZNAME:EST
DTSTART:20271107T060000
END:STANDARD
END:VTIMEZONE
BEGIN:VEVENT
DTSTART;TZID=America/New_York:20260427T180000
DTEND;TZID=America/New_York:20260427T190000
DTSTAMP:20260420T020219
CREATED:20260217T154805Z
LAST-MODIFIED:20260217T154805Z
UID:1451-1777312800-1777316400@truenorth400.com
SUMMARY:Milton City Council Meeting
DESCRIPTION:City Council Regular Meeting\n\nDate: 4/27/2026 6:00 PM\nLocation: City Hall\n2006 Heritage Walk\nMilton\, Georgia 30004\n\n\n\nNOTICE | AGENDA – PACKET – MINUTES | MEETING VIDEO \n**PLEASE NOTE: To view a specific Agenda Item’s document detail\, please select the PACKET and click the Blue letter beside each Agenda Item (which has a hyperlink) to link you directly to the document details. \nIf the letter is black\, then no back up document is available for that item.
URL:https://truenorth400.com/event/milton-city-council-meeting-apr-27-2026/
LOCATION:Milton City Hall\, 2006 Heritage Walk\, Milton\, GA\, 30004\, United States
CATEGORIES:City of Milton
END:VEVENT
BEGIN:VEVENT
DTSTART;TZID=America/New_York:20260427T183000
DTEND;TZID=America/New_York:20260427T193000
DTSTAMP:20260420T020219
CREATED:20260216T211232Z
LAST-MODIFIED:20260216T211232Z
UID:1383-1777314600-1777318200@truenorth400.com
SUMMARY:Alpharetta City Council Meeting & Public Hearing
DESCRIPTION:
URL:https://truenorth400.com/event/alpharetta-city-council-meeting-public-hearing-apr-27-2026/
CATEGORIES:City of Alpharetta
END:VEVENT
BEGIN:VEVENT
DTSTART;TZID=America/New_York:20260427T190000
DTEND;TZID=America/New_York:20260427T200000
DTSTAMP:20260420T020219
CREATED:20260216T204621Z
LAST-MODIFIED:20260216T204621Z
UID:1357-1777316400-1777320000@truenorth400.com
SUMMARY:Roswell City Council Meeting - Regular Meeting
DESCRIPTION:Mayor and Council\nRegular Meeting\n4/27/2026 7:00 PM \nCity Hall – Council Chambers \n38 Hill Street   Roswell\, GA 30075
URL:https://truenorth400.com/event/roswell-city-council-meeting-regular-meeting-apr-27-2026/
LOCATION:Roswell City Hall\, 38 Hill Street\, Roswell\, GA\, 30075\, United States
CATEGORIES:City of Roswell
END:VEVENT
END:VCALENDAR