BEGIN:VCALENDAR
VERSION:2.0
PRODID:-//True North 400 - ECPv6.15.20//NONSGML v1.0//EN
CALSCALE:GREGORIAN
METHOD:PUBLISH
X-WR-CALNAME:True North 400
X-ORIGINAL-URL:https://truenorth400.com
X-WR-CALDESC:Events for True North 400
REFRESH-INTERVAL;VALUE=DURATION:PT1H
X-Robots-Tag:noindex
X-PUBLISHED-TTL:PT1H
BEGIN:VTIMEZONE
TZID:America/New_York
BEGIN:DAYLIGHT
TZOFFSETFROM:-0500
TZOFFSETTO:-0400
TZNAME:EDT
DTSTART:20250309T070000
END:DAYLIGHT
BEGIN:STANDARD
TZOFFSETFROM:-0400
TZOFFSETTO:-0500
TZNAME:EST
DTSTART:20251102T060000
END:STANDARD
BEGIN:DAYLIGHT
TZOFFSETFROM:-0500
TZOFFSETTO:-0400
TZNAME:EDT
DTSTART:20260308T070000
END:DAYLIGHT
BEGIN:STANDARD
TZOFFSETFROM:-0400
TZOFFSETTO:-0500
TZNAME:EST
DTSTART:20261101T060000
END:STANDARD
BEGIN:DAYLIGHT
TZOFFSETFROM:-0500
TZOFFSETTO:-0400
TZNAME:EDT
DTSTART:20270314T070000
END:DAYLIGHT
BEGIN:STANDARD
TZOFFSETFROM:-0400
TZOFFSETTO:-0500
TZNAME:EST
DTSTART:20271107T060000
END:STANDARD
END:VTIMEZONE
BEGIN:VEVENT
DTSTART;TZID=America/New_York:20260514T170000
DTEND;TZID=America/New_York:20260514T220000
DTSTAMP:20260420T051802
CREATED:20260217T150631Z
LAST-MODIFIED:20260217T150631Z
UID:1402-1778778000-1778796000@truenorth400.com
SUMMARY:Taste of Alpharetta 2026
DESCRIPTION:The 34th Annual Taste of Alpharetta will take place on Thursday\, May 14\, 2026\, from 5 p.m. to 10 p.m. in Downtown Alpharetta\, Georgia. This signature culinary event is a foodie’s paradise\, with over 60 of the area’s best restaurants offering their signature creations for attendees to savor. Best of all? Admission is free\, and food samples range from $1 to $6 each. \nFood\, activity\, and merchandise purchases must be made with TasteBucks\, Taste of Alpharetta’s digital currency. Fans are encouraged to download the Taste of Alpharetta mobile app (available on Google Play and App Store) and use it to purchase and redeem TasteBucks during the festival. \nTasteBucks and Kidz Zone wristbands for the 2026 festival go on sale April 13. Festival goers can take advantage of special early bird discounted TasteBucks and Kidz Zone wristbands by purchasing items in the first two weeks of the online release. \nLocal\, brick & mortar restaurants are encouraged to apply online until April 1. Interested sponsors may contact Steph Mold. \nFor the latest event updates and a full list of participating restaurants\, visit www.tasteofalpharettaga.com or follow us on social media at @tasteofalpharetta on Facebook and Instagram. \n\n\n\nFree Admission; TasteBucks & Kidz Zone wristbands available for purchase online beginning April 13\n\nTaste of Alpharetta
URL:https://truenorth400.com/event/taste-of-alpharetta-2026/
CATEGORIES:City of Alpharetta
END:VEVENT
END:VCALENDAR