BEGIN:VCALENDAR
VERSION:2.0
PRODID:-//True North 400 - ECPv6.15.20//NONSGML v1.0//EN
CALSCALE:GREGORIAN
METHOD:PUBLISH
X-WR-CALNAME:True North 400
X-ORIGINAL-URL:https://truenorth400.com
X-WR-CALDESC:Events for True North 400
REFRESH-INTERVAL;VALUE=DURATION:PT1H
X-Robots-Tag:noindex
X-PUBLISHED-TTL:PT1H
BEGIN:VTIMEZONE
TZID:America/New_York
BEGIN:DAYLIGHT
TZOFFSETFROM:-0500
TZOFFSETTO:-0400
TZNAME:EDT
DTSTART:20250309T070000
END:DAYLIGHT
BEGIN:STANDARD
TZOFFSETFROM:-0400
TZOFFSETTO:-0500
TZNAME:EST
DTSTART:20251102T060000
END:STANDARD
BEGIN:DAYLIGHT
TZOFFSETFROM:-0500
TZOFFSETTO:-0400
TZNAME:EDT
DTSTART:20260308T070000
END:DAYLIGHT
BEGIN:STANDARD
TZOFFSETFROM:-0400
TZOFFSETTO:-0500
TZNAME:EST
DTSTART:20261101T060000
END:STANDARD
BEGIN:DAYLIGHT
TZOFFSETFROM:-0500
TZOFFSETTO:-0400
TZNAME:EDT
DTSTART:20270314T070000
END:DAYLIGHT
BEGIN:STANDARD
TZOFFSETFROM:-0400
TZOFFSETTO:-0500
TZNAME:EST
DTSTART:20271107T060000
END:STANDARD
END:VTIMEZONE
BEGIN:VEVENT
DTSTART;TZID=America/New_York:20260524T100000
DTEND;TZID=America/New_York:20260524T170000
DTSTAMP:20260420T064341
CREATED:20260217T151024Z
LAST-MODIFIED:20260217T151024Z
UID:1406-1779616800-1779642000@truenorth400.com
SUMMARY:Alpharetta Arts Fest
DESCRIPTION:Celebrate Memorial Day weekend (May 23 & 24) at the Alpharetta Arts Streetfest\, located at the Grove in Wills Park. This annual art festival features talented artisans from around the country who will display their creative products to the large crowds of neighbors and visitors. Attendees will also find a fun Kidz Zone\, tasty festival cuisine and strolling musicians at this popular festival filled with great arts and cool booths.  For details on sponsorship\, volunteering and parking\, visit the Splash Festivals website. \n\n\n\nFree admission\n\nAlpharetta Arts Fest Website\n\n\nSplash Festivals\nsplashfestivals@gmail.com \n\n\n175 Roswell St\nAlpharetta\, GA 30009-1931
URL:https://truenorth400.com/event/alpharetta-arts-fest-2026/
CATEGORIES:City of Alpharetta
END:VEVENT
END:VCALENDAR