BEGIN:VCALENDAR
VERSION:2.0
PRODID:-//True North 400 - ECPv6.15.20//NONSGML v1.0//EN
CALSCALE:GREGORIAN
METHOD:PUBLISH
X-ORIGINAL-URL:https://truenorth400.com
X-WR-CALDESC:Events for True North 400
REFRESH-INTERVAL;VALUE=DURATION:PT1H
X-Robots-Tag:noindex
X-PUBLISHED-TTL:PT1H
BEGIN:VTIMEZONE
TZID:America/New_York
BEGIN:DAYLIGHT
TZOFFSETFROM:-0500
TZOFFSETTO:-0400
TZNAME:EDT
DTSTART:20250309T070000
END:DAYLIGHT
BEGIN:STANDARD
TZOFFSETFROM:-0400
TZOFFSETTO:-0500
TZNAME:EST
DTSTART:20251102T060000
END:STANDARD
BEGIN:DAYLIGHT
TZOFFSETFROM:-0500
TZOFFSETTO:-0400
TZNAME:EDT
DTSTART:20260308T070000
END:DAYLIGHT
BEGIN:STANDARD
TZOFFSETFROM:-0400
TZOFFSETTO:-0500
TZNAME:EST
DTSTART:20261101T060000
END:STANDARD
BEGIN:DAYLIGHT
TZOFFSETFROM:-0500
TZOFFSETTO:-0400
TZNAME:EDT
DTSTART:20270314T070000
END:DAYLIGHT
BEGIN:STANDARD
TZOFFSETFROM:-0400
TZOFFSETTO:-0500
TZNAME:EST
DTSTART:20271107T060000
END:STANDARD
END:VTIMEZONE
BEGIN:VEVENT
DTSTART;TZID=America/New_York:20260525T083000
DTEND;TZID=America/New_York:20260525T110000
DTSTAMP:20260420T051903
CREATED:20260217T151216Z
LAST-MODIFIED:20260217T151216Z
UID:1408-1779697800-1779706800@truenorth400.com
SUMMARY:Alpharetta Memorial Day Tribute
DESCRIPTION:2 Park Plaza\nAlpharetta\, GA 30009\nLink to Map\n\n\nThe City of Alpharetta and the Rotary Club of Alpharetta will host Alpharetta’s Memorial Day Tribute on May 25 at Alpharetta City Hall\, located at 2 Park Plaza. The event is free for the public to attend. \nThe program will include an invocation\, the National Anthem\, the Pledge of Allegiance\, and a keynote address followed by “Taps.” \n\n\n\nFree Admission\n\nAlpharetta Memorial Day Tribute information\n\n\nWilliam Perkins\n(770) 876-5106\nwilliamperkins957@gmail.com
URL:https://truenorth400.com/event/alpharetta-memorial-day-tribute-2026/
LOCATION:Alpharetta City Hall\, 2 Park Plaza\, Alpharetta\, GA\, 30009\, United States
CATEGORIES:City of Alpharetta
END:VEVENT
BEGIN:VEVENT
DTSTART;TZID=America/New_York:20260525T100000
DTEND;TZID=America/New_York:20260525T113000
DTSTAMP:20260420T051903
CREATED:20260217T160729Z
LAST-MODIFIED:20260217T160729Z
UID:1460-1779703200-1779708600@truenorth400.com
SUMMARY:Milton Memorial Day Ceremony
DESCRIPTION:Memorial Day Ceremony\n\nDate: 5/25/2026 10:00 AM – 11:30 AM\nLocation: The Green at Crabapple Market\n12650 Crabapple Rd\nMilton\, Georgia 30004\n\n\n\nJoin the City of Milton to proudly salute our fallen veterans! This special Memorial Day ceremony is held every Memorial Day at The Green at Crabapple Market at 10 a.m. and includes music from local artists and a roll call of Milton’s honored fallen veterans. The 2026 commemoration will take place on Monday\, May 25. \nA special guest speaker is featured each year\, along with a presentation of the colors by the Milton Public Safety Color Guard. \nWhile this event is free\, we ask that all planning to attend RSVP with the number and names in their party to rsvp@miltonga.gov by Monday\, May 18. \nFor more information regarding this event please contact Community Outreach Manager Emily Salerno at emily.salerno@miltonga.gov.
URL:https://truenorth400.com/event/milton-memorial-day-ceremony-2026/
LOCATION:The Green at Crabapple Market\, 12650 Crabapple Rd\, Milton\, GA\, 30004\, United States
CATEGORIES:City of Milton
END:VEVENT
END:VCALENDAR