BEGIN:VCALENDAR
VERSION:2.0
PRODID:-//True North 400 - ECPv6.15.20//NONSGML v1.0//EN
CALSCALE:GREGORIAN
METHOD:PUBLISH
X-ORIGINAL-URL:https://truenorth400.com
X-WR-CALDESC:Events for True North 400
REFRESH-INTERVAL;VALUE=DURATION:PT1H
X-Robots-Tag:noindex
X-PUBLISHED-TTL:PT1H
BEGIN:VTIMEZONE
TZID:America/New_York
BEGIN:DAYLIGHT
TZOFFSETFROM:-0500
TZOFFSETTO:-0400
TZNAME:EDT
DTSTART:20250309T070000
END:DAYLIGHT
BEGIN:STANDARD
TZOFFSETFROM:-0400
TZOFFSETTO:-0500
TZNAME:EST
DTSTART:20251102T060000
END:STANDARD
BEGIN:DAYLIGHT
TZOFFSETFROM:-0500
TZOFFSETTO:-0400
TZNAME:EDT
DTSTART:20260308T070000
END:DAYLIGHT
BEGIN:STANDARD
TZOFFSETFROM:-0400
TZOFFSETTO:-0500
TZNAME:EST
DTSTART:20261101T060000
END:STANDARD
BEGIN:DAYLIGHT
TZOFFSETFROM:-0500
TZOFFSETTO:-0400
TZNAME:EDT
DTSTART:20270314T070000
END:DAYLIGHT
BEGIN:STANDARD
TZOFFSETFROM:-0400
TZOFFSETTO:-0500
TZNAME:EST
DTSTART:20271107T060000
END:STANDARD
END:VTIMEZONE
BEGIN:VEVENT
DTSTART;TZID=America/New_York:20260626T090000
DTEND;TZID=America/New_York:20260626T100000
DTSTAMP:20260421T004623
CREATED:20260305T210656Z
LAST-MODIFIED:20260305T210656Z
UID:1528-1782464400-1782468000@truenorth400.com
SUMMARY:Roswell Inc Virtual Coffee Connect
DESCRIPTION:Join us for the virtual edition of our Roswell Coffee Connect series. We meet virtually on the Last Friday of Every Month! Registration will open 30-60 days prior to each event. \nGrab a cup of coffee or tea and join us via Zoom for a morning of networking with Roswell businesses! \nEvent Details: \n\nThe event will kick off with a welcome from our host and breakout session moderators\nThere will be 2 rounds of mini breakout sessions.\nAttendees will be divided into groups of 5-6 people and given about 20 minutes for open networking during each round.\n\n*Registered attendees will receive Zoom details 1 day prior to the event from your event host or co-host. \nRegister Here.
URL:https://truenorth400.com/event/roswell-inc-virtual-coffee-connect-jun-26-2026/
CATEGORIES:Roswell Inc
END:VEVENT
BEGIN:VEVENT
DTSTART;TZID=America/New_York:20260626T180000
DTEND;TZID=America/New_York:20260626T220000
DTSTAMP:20260421T004623
CREATED:20260217T151509Z
LAST-MODIFIED:20260217T151509Z
UID:1413-1782496800-1782511200@truenorth400.com
SUMMARY:Alpharetta Moonlight Market
DESCRIPTION:Creativity takes center stage at the Moonlight Market\, a celebration of artistry and craftsmanship from local makers in the heart of Alpharetta. Held along North Broad and Market streets in the City Center from 5-10 pm from May–September\, this open-air marketplace showcases a curated collection of unique\, original artwork and artistically crafted goods from talented artisans. From imaginative paintings and sculpted wonders to intricately designed jewelry\, textiles\, and home décor\, every piece is a work of art infused with passion and originality. \nAs the sun sets\, the market comes alive under a canopy of twinkling lights\, offering a truly magical shopping experience. This vibrant event invites visitors to stroll\, shop\, and soak in the creativity while enjoying the vibrant sounds of live music in the heart of Alpharetta’s bustling downtown shopping district. \n\n\n\nFree Admission\n\nAlpharetta Moonlight Market Facebook Page\n\n\nMichael Hipps\nalpharettamoonlightmarket@gmail.com\n470-433-9423
URL:https://truenorth400.com/event/alpharetta-moonlight-market-jun-26-2026/
CATEGORIES:City of Alpharetta
END:VEVENT
END:VCALENDAR