BEGIN:VCALENDAR
VERSION:2.0
PRODID:-//True North 400 - ECPv6.15.20//NONSGML v1.0//EN
CALSCALE:GREGORIAN
METHOD:PUBLISH
X-WR-CALNAME:True North 400
X-ORIGINAL-URL:https://truenorth400.com
X-WR-CALDESC:Events for True North 400
REFRESH-INTERVAL;VALUE=DURATION:PT1H
X-Robots-Tag:noindex
X-PUBLISHED-TTL:PT1H
BEGIN:VTIMEZONE
TZID:America/New_York
BEGIN:DAYLIGHT
TZOFFSETFROM:-0500
TZOFFSETTO:-0400
TZNAME:EDT
DTSTART:20250309T070000
END:DAYLIGHT
BEGIN:STANDARD
TZOFFSETFROM:-0400
TZOFFSETTO:-0500
TZNAME:EST
DTSTART:20251102T060000
END:STANDARD
BEGIN:DAYLIGHT
TZOFFSETFROM:-0500
TZOFFSETTO:-0400
TZNAME:EDT
DTSTART:20260308T070000
END:DAYLIGHT
BEGIN:STANDARD
TZOFFSETFROM:-0400
TZOFFSETTO:-0500
TZNAME:EST
DTSTART:20261101T060000
END:STANDARD
BEGIN:DAYLIGHT
TZOFFSETFROM:-0500
TZOFFSETTO:-0400
TZNAME:EDT
DTSTART:20270314T070000
END:DAYLIGHT
BEGIN:STANDARD
TZOFFSETFROM:-0400
TZOFFSETTO:-0500
TZNAME:EST
DTSTART:20271107T060000
END:STANDARD
END:VTIMEZONE
BEGIN:VEVENT
DTSTART;TZID=America/New_York:20260703T090000
DTEND;TZID=America/New_York:20260703T120000
DTSTAMP:20260421T034724
CREATED:20260217T161333Z
LAST-MODIFIED:20260217T161333Z
UID:1467-1783069200-1783080000@truenorth400.com
SUMMARY:Red\, White\, and YOU!
DESCRIPTION:Red\, White\, and YOU!\n\nDate: 7/03/2026 9:00 AM – 12:00 PM\nLocation: Broadwell Pavilion\n12615 Broadwell Road\nMilton\, Georgia 30004\n\nAdd to my Calendar\n\n🎉 Get ready to party\, Milton! 🎉 Join us this Independence Day at the Broadwell Pavilion for a celebration where YOU are the star of the show! \nDress yourself\, your kids\, your wagons\, scooters\, bikes\, and even your leashed pets in the most festive red\, white\, and blue gear you can find\, and parade with pride! We’re giving out awesome prizes for Best Dressed Family\, Best Dressed Kid\, Flashiest Wheels (non-motorized vehicles only)\, and Most Creative. \nBut that’s not all! After the parade\, make a splash in our FOAM PIT! Let’s make America’s birthday bash the most unforgettable one yet! 🇺🇸✨ \nMark your calendars and bring your festive spirit – we can’t wait to see you there! \nFor more information regarding this event\, please contact Community Outreach Manager Emily Salerno at emily.salerno@miltonga.gov.
URL:https://truenorth400.com/event/red-white-and-you-milton-2026/
LOCATION:Broadwell Pavilion\, 12615 Broadwell Road\, Milton\, GA\, 30004\, United States
CATEGORIES:City of Milton
END:VEVENT
END:VCALENDAR