BEGIN:VCALENDAR
VERSION:2.0
PRODID:-//True North 400 - ECPv6.15.20//NONSGML v1.0//EN
CALSCALE:GREGORIAN
METHOD:PUBLISH
X-WR-CALNAME:True North 400
X-ORIGINAL-URL:https://truenorth400.com
X-WR-CALDESC:Events for True North 400
REFRESH-INTERVAL;VALUE=DURATION:PT1H
X-Robots-Tag:noindex
X-PUBLISHED-TTL:PT1H
BEGIN:VTIMEZONE
TZID:America/New_York
BEGIN:DAYLIGHT
TZOFFSETFROM:-0500
TZOFFSETTO:-0400
TZNAME:EDT
DTSTART:20250309T070000
END:DAYLIGHT
BEGIN:STANDARD
TZOFFSETFROM:-0400
TZOFFSETTO:-0500
TZNAME:EST
DTSTART:20251102T060000
END:STANDARD
BEGIN:DAYLIGHT
TZOFFSETFROM:-0500
TZOFFSETTO:-0400
TZNAME:EDT
DTSTART:20260308T070000
END:DAYLIGHT
BEGIN:STANDARD
TZOFFSETFROM:-0400
TZOFFSETTO:-0500
TZNAME:EST
DTSTART:20261101T060000
END:STANDARD
BEGIN:DAYLIGHT
TZOFFSETFROM:-0500
TZOFFSETTO:-0400
TZNAME:EDT
DTSTART:20270314T070000
END:DAYLIGHT
BEGIN:STANDARD
TZOFFSETFROM:-0400
TZOFFSETTO:-0500
TZNAME:EST
DTSTART:20271107T060000
END:STANDARD
END:VTIMEZONE
BEGIN:VEVENT
DTSTART;TZID=America/New_York:20260302T180000
DTEND;TZID=America/New_York:20260302T190000
DTSTAMP:20260420T002537
CREATED:20260217T154106Z
LAST-MODIFIED:20260217T154106Z
UID:1442-1772474400-1772478000@truenorth400.com
SUMMARY:Milton City Council Meeting
DESCRIPTION:City Council Regular Meeting\n\nDate: 3/02/2026 6:00 PM\nLocation: City Hall\n2006 Heritage Walk\nMilton\, Georgia 30004\n\n  \n\nNOTICE | AGENDA – PACKET – MINUTES | MEETING VIDEO \n**PLEASE NOTE: To view a specific Agenda Item’s document detail\, please select the PACKET and click the Blue letter beside each Agenda Item (which has a hyperlink) to link you directly to the document details. \nIf the letter is black\, then no back up document is available for that item.
URL:https://truenorth400.com/event/milton-city-council-meeting-mar-2-2026/
LOCATION:Milton City Hall\, 2006 Heritage Walk\, Milton\, GA\, 30004\, United States
CATEGORIES:City of Milton
END:VEVENT
BEGIN:VEVENT
DTSTART;TZID=America/New_York:20260302T183000
DTEND;TZID=America/New_York:20260302T193000
DTSTAMP:20260420T002537
CREATED:20260216T210802Z
LAST-MODIFIED:20260216T210802Z
UID:1375-1772476200-1772479800@truenorth400.com
SUMMARY:Alpharetta City Council Meeting & Public Hearing
DESCRIPTION:
URL:https://truenorth400.com/event/alpharetta-city-council-meeting-public-hearing-mar-2-2026/
CATEGORIES:City of Alpharetta
END:VEVENT
BEGIN:VEVENT
DTSTART;TZID=America/New_York:20260303T073000
DTEND;TZID=America/New_York:20260303T083000
DTSTAMP:20260420T002537
CREATED:20260212T225023Z
LAST-MODIFIED:20260216T165725Z
UID:1275-1772523000-1772526600@truenorth400.com
SUMMARY:True North 400 Board Meeting
DESCRIPTION:The next True North 400 board meeting will be Tuesday\, March 3 at 7:30 a.m. at 10000 Avalon Blvd\, Suite 100\, Alpharetta\, GA 30009.
URL:https://truenorth400.com/event/true-north-400-board-meeting-march-2026/
LOCATION:Greater North Fulton Chamber of Commerce\, 10000 Avalon Blvd\, Suite 100\, Alpharetta\, GA\, 30009\, United States
CATEGORIES:TN400 Board Meeting
ATTACH;FMTTYPE=image/png:https://truenorth400.com/wp-content/uploads/2023/09/TN_400_RGB_C_091223-01.png
END:VEVENT
BEGIN:VEVENT
DTSTART;TZID=America/New_York:20260305T083000
DTEND;TZID=America/New_York:20260305T100000
DTSTAMP:20260420T002537
CREATED:20260216T170427Z
LAST-MODIFIED:20260216T170427Z
UID:1315-1772699400-1772704800@truenorth400.com
SUMMARY:Alpharetta Business Council Coffee & Conversations
DESCRIPTION:Alpharetta Business Council Coffee & Conversations – Thursday\, March 5\, 2026 at Gwinnett Tech on Old Milton Parkway.
URL:https://truenorth400.com/event/alpharetta-business-council-coffee-conversations-mar-5-2026/
LOCATION:Gwinnett Technical College\, 2875 Old Milton Pkwy\, Alpharetta\, GA\, 30009\, United States
END:VEVENT
BEGIN:VEVENT
DTSTART;TZID=America/New_York:20260309T190000
DTEND;TZID=America/New_York:20260309T200000
DTSTAMP:20260420T002537
CREATED:20260216T200239Z
LAST-MODIFIED:20260216T200256Z
UID:1351-1773082800-1773086400@truenorth400.com
SUMMARY:Roswell City Council Meeting - Regular Meeting
DESCRIPTION:Mayor and Council\nRegular Meeting\n3/9/2026 7:00 PM \nCity Hall – Council Chambers \n38 Hill Street   Roswell\, GA 30075
URL:https://truenorth400.com/event/roswell-city-council-meeting-regular-meeting-mar-9-2026/
LOCATION:Roswell City Hall\, 38 Hill Street\, Roswell\, GA\, 30075\, United States
CATEGORIES:City of Roswell
END:VEVENT
BEGIN:VEVENT
DTSTART;TZID=America/New_York:20260312T173000
DTEND;TZID=America/New_York:20260312T190000
DTSTAMP:20260420T002537
CREATED:20260216T185951Z
LAST-MODIFIED:20260305T205605Z
UID:1317-1773336600-1773342000@truenorth400.com
SUMMARY:Greater North Fulton Chamber Business After Hours
DESCRIPTION:The 2026 Business After Hours events provide relaxed\, high-value networking in a fun setting\, hosted by GNFCC members at their businesses. Events are traditionally scheduled from 5:30–7:00 p.m. on the second Thursday of each month. \nMembers enjoy complimentary registration. \nNot-yet-members may register for $25.
URL:https://truenorth400.com/event/greater-north-fulton-chamber-business-after-hours-mar-12-2026/
LOCATION:Up on the Roof\, 33 South Main Street\, Alpharetta\, GA\, 30009\, United States
CATEGORIES:Greater North Fulton Chamber
END:VEVENT
BEGIN:VEVENT
DTSTART;TZID=America/New_York:20260313T080000
DTEND;TZID=America/New_York:20260313T090000
DTSTAMP:20260420T002537
CREATED:20260216T195126Z
LAST-MODIFIED:20260216T195126Z
UID:1341-1773388800-1773392400@truenorth400.com
SUMMARY:Roswell Inc Coffee Connect
DESCRIPTION:Join us for our monthly networking event\, always held on the 2nd Friday! Enjoy your morning cup of coffee from Sunny Day Coffee and light bites from Clean Eatz while connecting with other Roswell businesses\, local professionals and community leaders. \nSchedule: \n\n8:00 a.m. – Check-in\n8 :00 – 8:40 a.m. – Open Networking\n8 :40 – 8:50 a.m. – Announcements\, Featured Sponsor & Host Remarks\n8 :50 – 9:00 a.m. – Open Networking\n\nRegister Here.
URL:https://truenorth400.com/event/roswell-inc-coffee-connect-mar-13-2026/
LOCATION:Nexus Roswell\, 675 Mansell Rd\, Roswell\, GA\, 30076\, United States
CATEGORIES:Roswell Inc
END:VEVENT
BEGIN:VEVENT
DTSTART;TZID=America/New_York:20260313T081500
DTEND;TZID=America/New_York:20260313T091500
DTSTAMP:20260420T002537
CREATED:20260217T152535Z
LAST-MODIFIED:20260217T152535Z
UID:1420-1773389700-1773393300@truenorth400.com
SUMMARY:North Fulton Advisory Roundtable
DESCRIPTION:Name: North Fulton Advisory Roundtable with Kristin Winzeler\, Executive Director of True North 400 CID\n\nDate: March 13\, 2026\nTime: 8:15 AM – 9:15 AM EDT\n\nRegister Now\n\n\nEvent Description:\n\n\nJoin the Council for Quality Growth’s North Fulton Advisory Roundtable on March 13\, 2026 at 8:15 AM in-person at the CQG Office at Palisades Office Park. \nLocation:\n\nCouncil for Quality Growth\nPalisades Office Park\n5901-C Peachtree Dunwoody Rd.\nAtlanta\, GA 30328\nView a Map\n\n\n\nFees/Admission:\n\nFree to all Council members\, elected officials\, and staff.
URL:https://truenorth400.com/event/north-fulton-advisory-roundtable-mar-13-2026/
LOCATION:Council for Quality Growth\, 5901-C Peachtree Dunwoody Rd.\, Atlanta\, GA\, 30328\, United States
CATEGORIES:Council for Quality Growth
END:VEVENT
BEGIN:VEVENT
DTSTART;TZID=America/New_York:20260316T180000
DTEND;TZID=America/New_York:20260316T190000
DTSTAMP:20260420T002537
CREATED:20260217T154234Z
LAST-MODIFIED:20260217T154234Z
UID:1444-1773684000-1773687600@truenorth400.com
SUMMARY:Milton City Council Meeting
DESCRIPTION:City Council Regular Meeting\n\nDate: 3/16/2026 6:00 PM\nLocation: City Hall\n2006 Heritage Walk\nMilton\, Georgia 30004\n\n  \nNOTICE | AGENDA – PACKET – MINUTES | MEETING VIDEO \n**PLEASE NOTE: To view a specific Agenda Item’s document detail\, please select the PACKET and click the Blue letter beside each Agenda Item (which has a hyperlink) to link you directly to the document details. \nIf the letter is black\, then no back up document is available for that item.
URL:https://truenorth400.com/event/milton-city-council-meeting-mar-16-2026/
LOCATION:Milton City Hall\, 2006 Heritage Walk\, Milton\, GA\, 30004\, United States
CATEGORIES:City of Milton
END:VEVENT
BEGIN:VEVENT
DTSTART;TZID=America/New_York:20260316T183000
DTEND;TZID=America/New_York:20260316T193000
DTSTAMP:20260420T002537
CREATED:20260216T210906Z
LAST-MODIFIED:20260216T210906Z
UID:1377-1773685800-1773689400@truenorth400.com
SUMMARY:Alpharetta City Council Meeting & Public Hearing
DESCRIPTION:
URL:https://truenorth400.com/event/alpharetta-city-council-meeting-public-hearing-mar-16-2026/
CATEGORIES:City of Alpharetta
END:VEVENT
BEGIN:VEVENT
DTSTART;TZID=America/New_York:20260321T110000
DTEND;TZID=America/New_York:20260321T140000
DTSTAMP:20260420T002537
CREATED:20260217T154450Z
LAST-MODIFIED:20260217T154450Z
UID:1446-1774090800-1774101600@truenorth400.com
SUMMARY:Milton Community Egg Hunt
DESCRIPTION:Date: 3/21/2026 11:00 AM – 2:00 PM\nLocation: Cambridge High School\n2845 Bethany Bend\nMilton\, Georgia 30004\n\n\n\nGrab your Easter baskets and get ready for a day of fun! \nThis family event\, hosted in partnership with Stonecreek Church at Cambridge High School’s football field\, includes egg hunts for all ages! The hunt will take place on Saturday\, March 21\, 2026 from 11am-2pm. We will host a Sensory Friendly egg hunt prior to the event from 10-11am. \nJoin us for games\, face painting\, music and even a visit from the Easter Bunny! \nThe Milton Community Egg Hunt is a free event! \nAre you interested in becoming a sponsor for this event? Please click here to view all sponsorship opportunities.
URL:https://truenorth400.com/event/milton-community-egg-hunt-2026/
LOCATION:Cambridge High School\, 2845 Bethany Road\, Milton\, GA\, 30004\, United States
CATEGORIES:City of Milton
END:VEVENT
BEGIN:VEVENT
DTSTART;TZID=America/New_York:20260323T183000
DTEND;TZID=America/New_York:20260323T193000
DTSTAMP:20260420T002537
CREATED:20260216T211024Z
LAST-MODIFIED:20260216T211024Z
UID:1379-1774290600-1774294200@truenorth400.com
SUMMARY:Alpharetta City Council Meeting & Public Hearing
DESCRIPTION:
URL:https://truenorth400.com/event/alpharetta-city-council-meeting-public-hearing-mar-23-2026/
CATEGORIES:City of Alpharetta
END:VEVENT
BEGIN:VEVENT
DTSTART;TZID=America/New_York:20260323T190000
DTEND;TZID=America/New_York:20260323T200000
DTSTAMP:20260420T002537
CREATED:20260216T203606Z
LAST-MODIFIED:20260216T204313Z
UID:1353-1774292400-1774296000@truenorth400.com
SUMMARY:Roswell City Council Meeting - Regular Meeting
DESCRIPTION:Mayor and Council\nRegular Meeting\n3/23/2026 7:00 PM \nCity Hall – Council Chambers \n38 Hill Street   Roswell\, GA 30075
URL:https://truenorth400.com/event/roswell-city-council-meeting-regular-meeting-mar-23-2026/
LOCATION:Roswell City Hall\, 38 Hill Street\, Roswell\, GA\, 30075\, United States
CATEGORIES:City of Roswell
END:VEVENT
BEGIN:VEVENT
DTSTART;TZID=America/New_York:20260324T090000
DTEND;TZID=America/New_York:20260324T100000
DTSTAMP:20260420T002537
CREATED:20260217T152831Z
LAST-MODIFIED:20260217T152831Z
UID:1424-1774342800-1774346400@truenorth400.com
SUMMARY:Coffee & Conversations with the Council
DESCRIPTION:Name: Coffee & Conversations with the Council\n\nDate: March 24\, 2026\nTime: 9 AM – 10 AM EDT\n\nRegister Now\n\n\nLocation:\n\nCouncil for Quality Growth\n5901-C Peachtree Dunwoody Rd.\nSuite 500\nAtlanta\, GA 30328\n\n\n\n\n\nContact Information:\n\nMorgan Peek\nSend an Email\n\n\n\n\nFees/Admission:\n\nFree to current\, new\, and prospective members of the Council for Quality Growth
URL:https://truenorth400.com/event/coffee-conversations-with-the-council-mar-24-2026/
LOCATION:Council for Quality Growth\, 5901-C Peachtree Dunwoody Rd.\, Atlanta\, GA\, 30328\, United States
CATEGORIES:Council for Quality Growth
END:VEVENT
BEGIN:VEVENT
DTSTART;TZID=America/New_York:20260324T113000
DTEND;TZID=America/New_York:20260324T130000
DTSTAMP:20260420T002537
CREATED:20260216T190504Z
LAST-MODIFIED:20260216T190504Z
UID:1319-1774351800-1774357200@truenorth400.com
SUMMARY:The North Fulton Focus BOLD Women's Awards
DESCRIPTION:Join us as we celebrate BOLD Women’s Awards! \nGNFCC’s Businesswomen Organizing for Leadership and Development (BOLD) program connects businesswomen to create outstanding networks and spheres of influence\, to build partnerships together and with organizations to develop our businesses\, and to grow the community around the businesswomen of North Fulton in recognition and celebration. \n\n\n\n\n\nThe North Fulton Focus Series brings together distinguished keynote speakers to discuss pressing regional issues. Gain insights\, stay informed\, and engage with the leaders driving local decisions. Join us to kickoff a new year of building relationships\, exploring ideas\, and shaping the future of North Fulton. \nThe 2026 lunches will take place at Phase Events Center. \nEvent Calendar
URL:https://truenorth400.com/event/the-north-fulton-focus-bold-womens-awards-mar-24-2026/
LOCATION:Phase Events\, 12150 Morris Road\, Alpharetta\, GA\, 30005\, United States
CATEGORIES:Greater North Fulton Chamber
END:VEVENT
BEGIN:VEVENT
DTSTART;TZID=America/New_York:20260327T090000
DTEND;TZID=America/New_York:20260327T100000
DTSTAMP:20260420T002537
CREATED:20260305T210406Z
LAST-MODIFIED:20260305T210536Z
UID:1522-1774602000-1774605600@truenorth400.com
SUMMARY:Roswell Inc Virtual Coffee Connect
DESCRIPTION:Join us for the virtual edition of our Roswell Coffee Connect series. We meet virtually on the Last Friday of Every Month! Registration will open 30-60 days prior to each event. \nGrab a cup of coffee or tea and join us via Zoom for a morning of networking with Roswell businesses! \nEvent Details: \n\nThe event will kick off with a welcome from our host and breakout session moderators\nThere will be 2 rounds of mini breakout sessions.\nAttendees will be divided into groups of 5-6 people and given about 20 minutes for open networking during each round.\n\n*Registered attendees will receive Zoom details 1 day prior to the event from your event host or co-host. \nRegister Here.
URL:https://truenorth400.com/event/roswell-inc-virtual-coffee-connect-mar-27-2026/
CATEGORIES:Roswell Inc
END:VEVENT
END:VCALENDAR